BEGIN:VCALENDAR
VERSION:2.0
PRODID:-//Los Angeles Police Relief Association, Inc. - ECPv6.15.20//NONSGML v1.0//EN
CALSCALE:GREGORIAN
METHOD:PUBLISH
X-WR-CALNAME:Los Angeles Police Relief Association, Inc.
X-ORIGINAL-URL:https://www.lapra.org
X-WR-CALDESC:Events for Los Angeles Police Relief Association, Inc.
REFRESH-INTERVAL;VALUE=DURATION:PT1H
X-Robots-Tag:noindex
X-PUBLISHED-TTL:PT1H
BEGIN:VTIMEZONE
TZID:America/Los_Angeles
BEGIN:DAYLIGHT
TZOFFSETFROM:-0800
TZOFFSETTO:-0700
TZNAME:PDT
DTSTART:20250309T100000
END:DAYLIGHT
BEGIN:STANDARD
TZOFFSETFROM:-0700
TZOFFSETTO:-0800
TZNAME:PST
DTSTART:20251102T090000
END:STANDARD
BEGIN:DAYLIGHT
TZOFFSETFROM:-0800
TZOFFSETTO:-0700
TZNAME:PDT
DTSTART:20260308T100000
END:DAYLIGHT
BEGIN:STANDARD
TZOFFSETFROM:-0700
TZOFFSETTO:-0800
TZNAME:PST
DTSTART:20261101T090000
END:STANDARD
BEGIN:DAYLIGHT
TZOFFSETFROM:-0800
TZOFFSETTO:-0700
TZNAME:PDT
DTSTART:20270314T100000
END:DAYLIGHT
BEGIN:STANDARD
TZOFFSETFROM:-0700
TZOFFSETTO:-0800
TZNAME:PST
DTSTART:20271107T090000
END:STANDARD
END:VTIMEZONE
BEGIN:VEVENT
DTSTART;TZID=America/Los_Angeles:20260201T000000
DTEND;TZID=America/Los_Angeles:20260425T235900
DTSTAMP:20260425T093255
CREATED:20260203T063245Z
LAST-MODIFIED:20260420T015251Z
UID:10000017-1769904000-1777161540@www.lapra.org
SUMMARY:LAPRA’s Annual Fitness Challenge
DESCRIPTION:Get the 2026 Fitness Challenge Segment 3 Results. \n\nSegment 3 Individual Winners\nSegment 3 Team Winners\nTeam Rankings Through Segment 3
URL:https://www.lapra.org/events/lapras-annual-fitness-challenge
LOCATION:California
CATEGORIES:Events
END:VEVENT
END:VCALENDAR